BEGIN:VCALENDAR
VERSION:2.0
PRODID:-//African American Heritage Trail - ECPv6.3.7//NONSGML v1.0//EN
CALSCALE:GREGORIAN
METHOD:PUBLISH
X-ORIGINAL-URL:https://ccafricanamericanheritage.org
X-WR-CALDESC:Events for African American Heritage Trail
REFRESH-INTERVAL;VALUE=DURATION:PT1H
X-Robots-Tag:noindex
X-PUBLISHED-TTL:PT1H
BEGIN:VTIMEZONE
TZID:UTC
BEGIN:STANDARD
TZOFFSETFROM:+0000
TZOFFSETTO:+0000
TZNAME:UTC
DTSTART:20230101T000000
END:STANDARD
END:VTIMEZONE
BEGIN:VEVENT
DTSTART;TZID=UTC:20230812T110000
DTEND;TZID=UTC:20230812T200000
DTSTAMP:20260425T030016
CREATED:20230417T152003Z
LAST-MODIFIED:20230417T152003Z
UID:1454-1691838000-1691870400@ccafricanamericanheritage.org
SUMMARY:CU Days
DESCRIPTION:As Champaign-Urbana Days draw near\, the Champaign Park District would like to invite you to participate in this 30+ year-old tradition. This event draws nearly 2\,000 patrons each year and offers great exposure to the community. \nCelebrate the Chambana community with us! Enjoy live music\, tasty food\, children’s activities\, senior activities\, and more! \n\nFriday\, August 11\, 2023 – 5-8p\nSaturday\, August 12\, 2023 – 11a-8p\n\nQuestions: katherine.hicks@champaignparks.org or 217-398-2573 \nhttps://champaignparks.com/cu-days/
URL:https://ccafricanamericanheritage.org/event/cu-days-2/
LOCATION:Douglass Park\, 804 N. Fifth Street\, Champaign\, IL\, 61820
ATTACH;FMTTYPE=image/jpeg:https://ccafricanamericanheritage.org/wp-content/uploads/2023/04/CU-Days.jpg
END:VEVENT
END:VCALENDAR