BEGIN:VCALENDAR
VERSION:2.0
PRODID:-//African American Heritage Trail - ECPv6.3.7//NONSGML v1.0//EN
CALSCALE:GREGORIAN
METHOD:PUBLISH
X-ORIGINAL-URL:https://ccafricanamericanheritage.org
X-WR-CALDESC:Events for African American Heritage Trail
REFRESH-INTERVAL;VALUE=DURATION:PT1H
X-Robots-Tag:noindex
X-PUBLISHED-TTL:PT1H
BEGIN:VTIMEZONE
TZID:UTC
BEGIN:STANDARD
TZOFFSETFROM:+0000
TZOFFSETTO:+0000
TZNAME:UTC
DTSTART:20230101T000000
END:STANDARD
END:VTIMEZONE
BEGIN:VEVENT
DTSTART;TZID=UTC:20230906T190000
DTEND;TZID=UTC:20230906T200000
DTSTAMP:20260421T210611
CREATED:20230901T155353Z
LAST-MODIFIED:20230901T155353Z
UID:1588-1694026800-1694030400@ccafricanamericanheritage.org
SUMMARY:Virtual Visit with Colson Whitehead
DESCRIPTION:As the author of The Underground Railroad\, The Nickel Boys\, Harlem Shuffle\, The Noble Hustle\, Zone One\, Sag Harbor\, The Intuitionist\, John Henry Days\, Apex Hides the Hurt\, and a collection of essays\, Whitehead is only the fourth writer to win two Pulitzers in the Fiction category (for Underground Railroad in 2017 and The Nickel Boys in 2020). \nHis highly anticipated latest novel\, Crook Manifesto\, is a darkly funny tale of a city under siege\, but also a sneakily searching portrait of the meaning of family. \nHis reviews\, essays\, and fiction have appeared in the New York Times\, The New Yorker\, New York Magazine\, Harper’s and Granta. Whitehead has received a MacArthur Fellowship and Guggenheim Fellowship and the Library of Congress Prize for American Fiction\, among others. In 2023\, President Biden awarded Whitehead a National Endowment for the Humanities Medal. He has taught extensively\, including at Columbia University\, Princeton University\, and Brooklyn College\, and has been a Writer-in-Residence at Vassar College\, the University of Richmond\, and University of Wyoming. He lives in New York City. \nFor more information\, including how to register\, visit: https://champaign.org/event/virtual-visit-with-colson-whitehead-9043557 \nThis event is made possible by Illinois Libraries Present\, a statewide collaboration among public libraries offering premier events. ILP is funded in part by a grant awarded by the Illinois State Library\, a department of the Office of Secretary of State\, using funds provided by the U.S. Institute of Museum and Library Services\, under the provisions of the Library Services and Technology Act (LSTA). ILP is committed to inclusion and accessibility.
URL:https://ccafricanamericanheritage.org/event/virtual-visit-with-colson-whitehead/
LOCATION:Zoom
ATTACH;FMTTYPE=image/jpeg:https://ccafricanamericanheritage.org/wp-content/uploads/2023/09/coleson-whitehead.jpeg
END:VEVENT
END:VCALENDAR