BEGIN:VCALENDAR
VERSION:2.0
PRODID:-//African American Heritage Trail - ECPv6.3.7//NONSGML v1.0//EN
CALSCALE:GREGORIAN
METHOD:PUBLISH
X-WR-CALNAME:African American Heritage Trail
X-ORIGINAL-URL:https://ccafricanamericanheritage.org
X-WR-CALDESC:Events for African American Heritage Trail
REFRESH-INTERVAL;VALUE=DURATION:PT1H
X-Robots-Tag:noindex
X-PUBLISHED-TTL:PT1H
BEGIN:VTIMEZONE
TZID:UTC
BEGIN:STANDARD
TZOFFSETFROM:+0000
TZOFFSETTO:+0000
TZNAME:UTC
DTSTART:20230101T000000
END:STANDARD
END:VTIMEZONE
BEGIN:VEVENT
DTSTART;TZID=UTC:20231015T140000
DTEND;TZID=UTC:20231015T150000
DTSTAMP:20260421T082220
CREATED:20231002T143332Z
LAST-MODIFIED:20231002T143332Z
UID:1610-1697378400-1697382000@ccafricanamericanheritage.org
SUMMARY:16th Annual Lincoln Lecture Series — Voices of Our Past: Frederick Douglass
DESCRIPTION:Museum of the Grand Prairie\, Lake of the Woods Forest Preserve\, 2 p.m.  \nHelp us kickoff the 16th Annual Lincoln Lecture Series with this special event! The theme of this year’s series is “Voices of Our Past” and will feature first-person interpretations of African-American voices present during the life and times of Abraham Lincoln. Did you know Frederick Douglass spoke in Champaign once? Learn about this important figure in US history as Bob Davis\, first-person interpreter\, brings Douglass to life with an interactive and engaging presentation portraying the notable abolitionist and orator. FREE. For more info: (217) 586-2612 or pcain@ccfpd.org. \nWebsite Event Listing – Frederick Douglass \nFacebook Event Listing – Frederick Douglass
URL:https://ccafricanamericanheritage.org/event/16th-annual-lincoln-lecture-series-voices-of-our-past-frederick-douglass/
LOCATION:Museum of the Grand Prairie\, 950 N. Lombard St.\, Mahomet\, IL\, 61853
ATTACH;FMTTYPE=image/png:https://ccafricanamericanheritage.org/wp-content/uploads/2023/10/Voices-of-Past-Oct-15.png
END:VEVENT
END:VCALENDAR