BEGIN:VCALENDAR
VERSION:2.0
PRODID:-//African American Heritage Trail - ECPv6.3.7//NONSGML v1.0//EN
CALSCALE:GREGORIAN
METHOD:PUBLISH
X-WR-CALNAME:African American Heritage Trail
X-ORIGINAL-URL:https://ccafricanamericanheritage.org
X-WR-CALDESC:Events for African American Heritage Trail
REFRESH-INTERVAL;VALUE=DURATION:PT1H
X-Robots-Tag:noindex
X-PUBLISHED-TTL:PT1H
BEGIN:VTIMEZONE
TZID:UTC
BEGIN:STANDARD
TZOFFSETFROM:+0000
TZOFFSETTO:+0000
TZNAME:UTC
DTSTART:20230101T000000
END:STANDARD
END:VTIMEZONE
BEGIN:VEVENT
DTSTART;TZID=UTC:20231020T170000
DTEND;TZID=UTC:20231020T190000
DTSTAMP:20260421T142016
CREATED:20231019T194617Z
LAST-MODIFIED:20231019T194617Z
UID:1626-1697821200-1697828400@ccafricanamericanheritage.org
SUMMARY:Afro-Futurism Symposium
DESCRIPTION:AFRO-FUTURISM SYMPOSIUM\n\nEvent Type\nSeminar/Symposium\nSponsor\nAfrican Students’ Organization and co-sponsored by Center for African Studies\, Women and Gender in Global Perspectives Program\, and Bruce D. Nesbitt African American Cultural Center\nLocation\nBruce Nesbitt African American Cultural Center (BNAACC)\nDate\nOct 20\, 2023   5:00 – 7:00 pm\nContact\nMorgan Toyosi\n\n\n\nE-Mail\ntoyosim2@illinois.edu\n\n\n\nViews\n26\nOriginating Calendar\nWomen and Gender in Global Perspectives Program (WGGP)\nAfrican Students’ Organization presents AFRO-FUTURISM SYMPOSIUM \nCollaborative Role of Africans & African-Americans in Afro-Futurism \nDate: Friday\, October 20th\, 2023 \nLocation: Bruce Nesbitt African American Cultural Center (BNAACC) \nTime: 5 pm – 7 pm \nCo-sponsored by: Center for African Studies\, Bruce D. Nesbitt African American Cultural Center\, Women and Gender in Global Perspectives Program
URL:https://ccafricanamericanheritage.org/event/afro-futurism-symposium/
LOCATION:Bruce D. Nesbitt African American Cultural Center\, 1212 W. Nevada St.\, Urbana\, IL\, 61801
ATTACH;FMTTYPE=image/png:https://ccafricanamericanheritage.org/wp-content/uploads/2023/10/Afro-Futurism-Symposium.png
END:VEVENT
END:VCALENDAR