BEGIN:VCALENDAR
VERSION:2.0
PRODID:-//African American Heritage Trail - ECPv6.3.7//NONSGML v1.0//EN
CALSCALE:GREGORIAN
METHOD:PUBLISH
X-ORIGINAL-URL:https://ccafricanamericanheritage.org
X-WR-CALDESC:Events for African American Heritage Trail
REFRESH-INTERVAL;VALUE=DURATION:PT1H
X-Robots-Tag:noindex
X-PUBLISHED-TTL:PT1H
BEGIN:VTIMEZONE
TZID:UTC
BEGIN:STANDARD
TZOFFSETFROM:+0000
TZOFFSETTO:+0000
TZNAME:UTC
DTSTART:20230101T000000
END:STANDARD
END:VTIMEZONE
BEGIN:VEVENT
DTSTART;TZID=UTC:20231213T180000
DTEND;TZID=UTC:20231213T210000
DTSTAMP:20260422T093843
CREATED:20231127T205557Z
LAST-MODIFIED:20231127T205713Z
UID:1641-1702490400-1702501200@ccafricanamericanheritage.org
SUMMARY:BIPOC Artist Meet-Up
DESCRIPTION:Urbana Arts & Culture and The College of Fine and Applied Arts invite all Champaign-Urbana BIPOC artists\, creatives\, makers\, storytellers\, and cultural bearers to connect and unwind with an evening of togetherness at Gallery Art Bar in Downtown Urbana. \nJoin hosts Carolyn and Vivian from The College of Fine and Applied Arts and the Urbana Arts & Culture Program for the kick-off event of the newly formed CU BIPOC Artist Collective. Local creatives who identify as Black\, Indigenous\, or Person of Color are invited to connect with others\, enjoy refreshments and discuss the future of the BIPOC artist community in Champaign-Urbana. The event will take place at Gallery Art Bar located on Main Street in downtown Urbana. Goodie bags will be available for the first 40 guests who arrive! \nDecember’s event will be the first scheduled of quarterly gatherings for the collective. \nThis event is co-sponsored by the City of Urbana’s Arts & Culture Program and the University of Illinois College of Fine and Applied Arts.
URL:https://ccafricanamericanheritage.org/event/bipoc-artist-meet-up/
LOCATION:Gallery Art Bar\, 119 W. Main St.\, Urbana\, IL
ATTACH;FMTTYPE=image/png:https://ccafricanamericanheritage.org/wp-content/uploads/2023/11/BIPOC-Artist-Meet-Up.png
END:VEVENT
END:VCALENDAR