BEGIN:VCALENDAR
VERSION:2.0
PRODID:-//African American Heritage Trail - ECPv6.3.7//NONSGML v1.0//EN
CALSCALE:GREGORIAN
METHOD:PUBLISH
X-ORIGINAL-URL:https://ccafricanamericanheritage.org
X-WR-CALDESC:Events for African American Heritage Trail
REFRESH-INTERVAL;VALUE=DURATION:PT1H
X-Robots-Tag:noindex
X-PUBLISHED-TTL:PT1H
BEGIN:VTIMEZONE
TZID:UTC
BEGIN:STANDARD
TZOFFSETFROM:+0000
TZOFFSETTO:+0000
TZNAME:UTC
DTSTART:20240101T000000
END:STANDARD
END:VTIMEZONE
BEGIN:VEVENT
DTSTART;TZID=UTC:20240114T170000
DTEND;TZID=UTC:20240114T210000
DTSTAMP:20260421T122438
CREATED:20240110T151643Z
LAST-MODIFIED:20240110T151643Z
UID:1679-1705251600-1705266000@ccafricanamericanheritage.org
SUMMARY:Martin Luther King\, Jr. Countywide Celebration
DESCRIPTION:Martin Luther King\, Jr. Countywide Celebration\n\n\nJanuary 14\, 2024 – 5:00 pm \nMartin Luther King Jr. \nat Krannert Center for the Performing Arts\, 500 S. Goodwin Ave.\, Urbana 61801 \nDoors open at 4:00pm \nCommunity Choir begins TBD \nFeatured Keynote Speaker – Rev. BJ Tatum  \n​ \nDuring the ceremony\, three community members will be honored with prestigious awards in recognition of their work to uphold the principles and ideals of Dr. King\, including: \n\n\nDoris Hoskins Prestigious Community Service Award \n\n\nJames R. Burgess\, Jr. – Susan Freiburg Humanitarian Award \n\n\nDr. Martin Luther King\, Jr. Outstanding Achievement Award \n\n\n\nUnity Breakfast \nJanuary 15\, 2024 \nVineyard Church of Central Illinois \n1500 N. Lincoln Ave.\, Urbana\, IL 61801 \nEvent begins at 8:30 AM
URL:https://ccafricanamericanheritage.org/event/martin-luther-king-jr-countywide-celebration/
LOCATION:Krannert Center for the Performing Arts\, 500 S. Goodwin Ave.\, Urbana\, IL\, 61801
ATTACH;FMTTYPE=image/webp:https://ccafricanamericanheritage.org/wp-content/uploads/2024/01/mlk-i-have-a-dream-1_edited.webp
END:VEVENT
END:VCALENDAR