BEGIN:VCALENDAR
VERSION:2.0
PRODID:-//African American Heritage Trail - ECPv6.3.7//NONSGML v1.0//EN
CALSCALE:GREGORIAN
METHOD:PUBLISH
X-ORIGINAL-URL:https://ccafricanamericanheritage.org
X-WR-CALDESC:Events for African American Heritage Trail
REFRESH-INTERVAL;VALUE=DURATION:PT1H
X-Robots-Tag:noindex
X-PUBLISHED-TTL:PT1H
BEGIN:VTIMEZONE
TZID:UTC
BEGIN:STANDARD
TZOFFSETFROM:+0000
TZOFFSETTO:+0000
TZNAME:UTC
DTSTART:20240101T000000
END:STANDARD
END:VTIMEZONE
BEGIN:VEVENT
DTSTART;TZID=UTC:20240119T190000
DTEND;TZID=UTC:20240119T210000
DTSTAMP:20260421T124446
CREATED:20240108T164321Z
LAST-MODIFIED:20240108T164321Z
UID:1657-1705690800-1705698000@ccafricanamericanheritage.org
SUMMARY:Passing: Film at the Virginia Theatre
DESCRIPTION:THE ARTHOUSE EXPERIENCE FILM SERIES\n\nRated PG-13\n98 Min \nPresented by Illinois Public Media\, home of WILL-TV\, WILL-AM\, and WILL-FM. \nIn 1920s New York City\, a black woman finds her world up-ended when her life becomes intertwined with a former childhood friend who’s passing as white. \nRebecca Hall’s directorial debut is a powerful drama that brings Nella Larsen’s 1929 novel of the same name to the screen. \n\nFor tickets\, visit the Virginia Theatre’s website here: https://thevirginia.showare.com/eventperformances.asp?evt=900\n\nTHE ARTHOUSE EXPERIENCE Film Series\nDescribed as limited-release\, high-quality titles that have captured the imagination of movie lovers\, the Virginia Theatre’s Arthouse Experience Film Series is programmed by special guest curator Sanford Hess. \nThe movies that Mr. Hess selects—a mix of award-winners\, Ebertfest favorites\, and recent classics—are presented one Friday each month on the Virginia’s 52-foot wide movie screen\, with state-of-the-art surround sound. \nEach film will be followed by a post-show discussion and in some cases an on-stage talk by directors\, producers\, and other special guests.
URL:https://ccafricanamericanheritage.org/event/passing-film-at-the-virginia-theatre/
LOCATION:Virginia Theatre\, 203 W. Park Ave.\, Champaign\, IL\, 61820
ATTACH;FMTTYPE=image/jpeg:https://ccafricanamericanheritage.org/wp-content/uploads/2024/01/Passing-at-Virginia-Theatre.jpg
END:VEVENT
END:VCALENDAR