BEGIN:VCALENDAR
VERSION:2.0
PRODID:-//African American Heritage Trail - ECPv6.3.7//NONSGML v1.0//EN
CALSCALE:GREGORIAN
METHOD:PUBLISH
X-ORIGINAL-URL:https://ccafricanamericanheritage.org
X-WR-CALDESC:Events for African American Heritage Trail
REFRESH-INTERVAL;VALUE=DURATION:PT1H
X-Robots-Tag:noindex
X-PUBLISHED-TTL:PT1H
BEGIN:VTIMEZONE
TZID:UTC
BEGIN:STANDARD
TZOFFSETFROM:+0000
TZOFFSETTO:+0000
TZNAME:UTC
DTSTART:20240101T000000
END:STANDARD
END:VTIMEZONE
BEGIN:VEVENT
DTSTART;TZID=UTC:20241212T173000
DTEND;TZID=UTC:20241212T200000
DTSTAMP:20260420T163840
CREATED:20241018T150624Z
LAST-MODIFIED:20241018T150624Z
UID:2001-1734024600-1734033600@ccafricanamericanheritage.org
SUMMARY:CU BIPOC Artist Collective Holiday Card Making Workshop
DESCRIPTION:Holiday card making with handmade paper. Plus\, hot cocoa!
URL:https://ccafricanamericanheritage.org/event/cu-bipoc-artist-collective-holiday-card-making-workshop/
LOCATION:Fresh Press\, 2116 Griffith Dr.\, Champaign\, IL\, 61820\, United States
ATTACH;FMTTYPE=image/jpeg:https://ccafricanamericanheritage.org/wp-content/uploads/2024/10/BIPOC-Holiday-Card-Making.jpg
END:VEVENT
END:VCALENDAR