BEGIN:VCALENDAR
VERSION:2.0
PRODID:-//African American Heritage Trail - ECPv6.3.7//NONSGML v1.0//EN
CALSCALE:GREGORIAN
METHOD:PUBLISH
X-ORIGINAL-URL:https://ccafricanamericanheritage.org
X-WR-CALDESC:Events for African American Heritage Trail
REFRESH-INTERVAL;VALUE=DURATION:PT1H
X-Robots-Tag:noindex
X-PUBLISHED-TTL:PT1H
BEGIN:VTIMEZONE
TZID:UTC
BEGIN:STANDARD
TZOFFSETFROM:+0000
TZOFFSETTO:+0000
TZNAME:UTC
DTSTART:20220101T000000
END:STANDARD
END:VTIMEZONE
BEGIN:VEVENT
DTSTART;TZID=UTC:20220825T120000
DTEND;TZID=UTC:20220825T160000
DTSTAMP:20260421T180757
CREATED:20220712T145232Z
LAST-MODIFIED:20220712T145232Z
UID:133-1661428800-1661443200@ccafricanamericanheritage.org
SUMMARY:Jettie Rhodes Day
DESCRIPTION:
URL:https://ccafricanamericanheritage.org/event/jettie-rhodes-day/
LOCATION:Martin Luther King Jr. Park\, 915 W. Wascher Dr.\, Urbana\, IL\, 61801
ATTACH;FMTTYPE=image/jpeg:https://ccafricanamericanheritage.org/wp-content/uploads/2022/07/jette.jpg
END:VEVENT
END:VCALENDAR